BEGIN:VCALENDAR
VERSION:2.0
PRODID:-//Veney’s Community Development,  Inc. - ECPv6.9.0//NONSGML v1.0//EN
CALSCALE:GREGORIAN
METHOD:PUBLISH
X-ORIGINAL-URL:https://veneycd.org
X-WR-CALDESC:Events for Veney’s Community Development,  Inc.
REFRESH-INTERVAL;VALUE=DURATION:PT1H
X-Robots-Tag:noindex
X-PUBLISHED-TTL:PT1H
BEGIN:VTIMEZONE
TZID:UTC
BEGIN:STANDARD
TZOFFSETFROM:+0000
TZOFFSETTO:+0000
TZNAME:UTC
DTSTART:20240101T000000
END:STANDARD
END:VTIMEZONE
BEGIN:VEVENT
DTSTART;TZID=UTC:20240916T080000
DTEND;TZID=UTC:20240916T170000
DTSTAMP:20260421T192511
CREATED:20240913T011333Z
LAST-MODIFIED:20240913T011333Z
UID:696-1726473600-1726506000@veneycd.org
SUMMARY:Community Food Drive and Distribution Day
DESCRIPTION:VCD Inc. is excited to host our annual Community Food Drive and Distribution Day\, an event dedicated to supporting families and individuals facing food insecurity. This event is part of our ongoing commitment to ensuring that everyone in our community has access to nutritious meals and essential food items. We will be distributing bags of groceries that include fresh fruits\, vegetables\, non-perishable items\, and other household necessities. Families in need are encouraged to stop by and receive enough food supplies to help them through the coming weeks. \nIn addition to food distribution\, our volunteers will be offering educational resources on healthy meal planning\, nutrition\, and tips on stretching a food budget. For those interested in learning more about VCD Inc.’s services\, there will be informational booths where staff can discuss other programs such as crisis support\, vocational training\, and emergency clothing services. \nWe also welcome members of the community who wish to get involved by volunteering or donating food items. Your generosity will help us reach even more families in need. Whether you’re receiving help or giving it\, this event is all about coming together as a community to support one another. \nHow to Participate:\nNo pre-registration is required for those in need of food assistance—simply arrive during event hours\, and volunteers will guide you through the process. If you’re interested in volunteering or donating\, please contact us via email at info@veneyscd.org or visit our website to sign up.
URL:https://veneycd.org/event/community-food-drive-and-distribution-day-2/
LOCATION:Best Western Plus Waynesboro Inn & Suites Conference Center\, 109 Apple Tree Ln\, Waynesboro\, VA\, 22980
CATEGORIES:Community Food
ATTACH;FMTTYPE=image/jpeg:https://veneycd.org/wp-content/uploads/2024/09/2149012189.jpg
END:VEVENT
BEGIN:VEVENT
DTSTART;TZID=UTC:20240908T080000
DTEND;TZID=UTC:20240908T170000
DTSTAMP:20260421T192511
CREATED:20240908T170706Z
LAST-MODIFIED:20240908T170729Z
UID:478-1725782400-1725814800@veneycd.org
SUMMARY:Community Food Drive and Distribution Day
DESCRIPTION:VCD Inc. is excited to host our annual Community Food Drive and Distribution Day\, an event dedicated to supporting families and individuals facing food insecurity. This event is part of our ongoing commitment to ensuring that everyone in our community has access to nutritious meals and essential food items. We will be distributing bags of groceries that include fresh fruits\, vegetables\, non-perishable items\, and other household necessities. Families in need are encouraged to stop by and receive enough food supplies to help them through the coming weeks. \nIn addition to food distribution\, our volunteers will be offering educational resources on healthy meal planning\, nutrition\, and tips on stretching a food budget. For those interested in learning more about VCD Inc.’s services\, there will be informational booths where staff can discuss other programs such as crisis support\, vocational training\, and emergency clothing services. \nWe also welcome members of the community who wish to get involved by volunteering or donating food items. Your generosity will help us reach even more families in need. Whether you’re receiving help or giving it\, this event is all about coming together as a community to support one another. \nHow to Participate:\nNo pre-registration is required for those in need of food assistance—simply arrive during event hours\, and volunteers will guide you through the process. If you’re interested in volunteering or donating\, please contact us via email at info@veneyscd.org or visit our website to sign up.
URL:https://veneycd.org/event/community-food-drive-and-distribution-day/
LOCATION:VCD Inc. Headquarters\, Stuarts Draft\, Virginia\, VCD Inc. Headquarters\, Stuarts Draft\, Virginia\, VA\, 22980\, United States
CATEGORIES:Community Food Event
ATTACH;FMTTYPE=image/jpeg:https://veneycd.org/wp-content/uploads/2024/09/3576.jpg
END:VEVENT
END:VCALENDAR